BEGIN:VCALENDAR
VERSION:2.0
PRODID:-//CBFGA - ECPv6.15.20//NONSGML v1.0//EN
CALSCALE:GREGORIAN
METHOD:PUBLISH
X-WR-CALNAME:CBFGA
X-ORIGINAL-URL:https://cbfga.org
X-WR-CALDESC:Events for CBFGA
REFRESH-INTERVAL;VALUE=DURATION:PT1H
X-Robots-Tag:noindex
X-PUBLISHED-TTL:PT1H
BEGIN:VTIMEZONE
TZID:America/New_York
BEGIN:DAYLIGHT
TZOFFSETFROM:-0500
TZOFFSETTO:-0400
TZNAME:EDT
DTSTART:20230312T070000
END:DAYLIGHT
BEGIN:STANDARD
TZOFFSETFROM:-0400
TZOFFSETTO:-0500
TZNAME:EST
DTSTART:20231105T060000
END:STANDARD
BEGIN:DAYLIGHT
TZOFFSETFROM:-0500
TZOFFSETTO:-0400
TZNAME:EDT
DTSTART:20240310T070000
END:DAYLIGHT
BEGIN:STANDARD
TZOFFSETFROM:-0400
TZOFFSETTO:-0500
TZNAME:EST
DTSTART:20241103T060000
END:STANDARD
BEGIN:DAYLIGHT
TZOFFSETFROM:-0500
TZOFFSETTO:-0400
TZNAME:EDT
DTSTART:20250309T070000
END:DAYLIGHT
BEGIN:STANDARD
TZOFFSETFROM:-0400
TZOFFSETTO:-0500
TZNAME:EST
DTSTART:20251102T060000
END:STANDARD
END:VTIMEZONE
BEGIN:VEVENT
DTSTART;VALUE=DATE:20240601
DTEND;VALUE=DATE:20240831
DTSTAMP:20260425T041203
CREATED:20240601T020331Z
LAST-MODIFIED:20240805T175729Z
UID:8154-1717200000-1725062399@cbfga.org
SUMMARY:Register for CBFGA Intergenerational Missions Weekend: Serving Beyond
DESCRIPTION:Join Us for a Weekend of Purpose\, Connection & Cooperation\n			\n				\n				\n				\n				\n				Intergenerational Missions Weekend: Serving Beyond\, Serving Together\n			\n				\n				\n				\n				\n				When: September 13-15\, 2024\nWhere: Hosted by First Baptist Church\, Dalton\, GA\nCost: $20/adult\, $10/child (12 and under) Maximum of $50 per family\nExperience the joy of giving back with your loved ones at our Intergenerational Missions Weekend. It’s a perfect opportunity for families of all generations to come together\, engage in meaningful community service projects\, and create lasting memories.\n			\n				Family Registration Form\n			\n				Church Group Registration Form\n			\n			\n				\n				\n				\n				\n				\n			\n				\n				\n				\n				\n			\n				\n				\n			\n				\n				\n				\n				\n				\n				\n				\n				\n				\n				\n				\n				\n				\n				\n				\n				\n				\n				\n			\n			\n				\n				\n				\n				\n				\n				\n				\n				\n				\n				Intergenerational Missions Weekend Highlights\n			\n				\n				\n				\n				\n				Join us as we capture the spirit of unity and service at our Intergenerational Missions Weekend. This event features a range of activities tailored for all ages\, ensuring that every participant\, from toddlers to grandparents\, can participate and contribute. Highlights include community service projects\, interactive worship\, free-time for rest or fun\, and meals together all designed to strengthen family bonds and foster a sense of global citizenship. \n			\n			\n				\n				\n				\n				\n			\n				\n				\n			\n				\n				\n				\n				\n				\n				\n				\n				\n				\n				\n				\n				\n				\n				\n				\n				\n				Weekend Activities Schedule\n			\n				\n				\n				\n				\n				Explore our schedule of activities\, and events tailored for every family member. Make sure to join the fun! \nIf there are people in your family/group who have special skills please let us know. Painting\, building\, electrical\, power tools\, etc. FBC Dalton has a rampbuilding team and will lead a workshop for those who are interested in learning how to start their own church ramp building team so please let us know if anyone in your family/group is interested in attending that workshop. \n			\n			\n				\n				\n				\n				\n				\n				\n				\n				\n				\n				\n				\n				\n				\n				\n				\n				Friday Evening\n			\n			\n				\n				\n				\n				\n				\n				\n				\n				\n				\n				Welcome Gathering\n			\n				\n				\n				\n				\n				Kick off the weekend with registration & a warm welcome reception at First Baptist Church\, Dalton\, GA. Enjoy pizza\, jump houses\, games and meet other families. \n			\n			\n				\n				\n				\n				\n			\n				\n				\n				\n				\n				\n				\n				\n				\n				\n				\n				Saturday Morning\n			\n			\n				\n				\n				\n				\n				\n				\n				\n				\n				\n				Breakfast\, Mission Site Kick Off\, Work & Lunch\n			\n				\n				\n				\n				\n				Enjoy breakfast\, devotions and a commissioning  to go into the Community and work as the hands and feet of Christ. \n  \n			\n			\n				\n				\n				\n				\n			\n				\n				\n				\n				\n				\n				\n				\n				\n				\n				\n				Saturday Afternoon\n			\n			\n				\n				\n				\n				\n				\n				\n				\n				\n				\n				Work\, Worship\, Dinner & Fellowship\n			\n				\n				\n				\n				\n				After a day of hard work come back to the church for Worship\, Dinner and Fellowship! \n			\n			\n				\n				\n				\n				\n			\n				\n				\n				\n				\n				\n				\n				\n				\n				\n				\n				Sunday Morning\n			\n			\n				\n				\n				\n				\n				\n				\n				\n				\n				\n				Breakfast & Worship\n			\n				\n				\n				\n				\n				Come back after a night of Fellowship to share breakfast and to Worship with the members of FBC Dalton. \n			\n			\n				\n				\n				\n				\n			\n			\n				\n				\n			\n				\n				\n				\n				\n				\n				\n				\n				\n				\n				\n				\n				\n				\n				\n				\n				\n				\n				LODGING SUGGESTIONS\n			\n			\n				\n				\n				\n				\n			\n				\n				\n			\n				\n				\n				\n				\n				\n				\n				\n				\n				\n				\n				\n				\n				\n				\n				\n				\n				\n				Carpentry HotelCall the hotel directly and tell them you are with CBF of Georgia.706-529-3040Cutoff date is 8/13/24Rate is $169.00/night \n			\n			\n				\n				\n				\n				\n				\n				\n				\n				\n				\n				Hilton Garden Inn879 College Drive\, Dalton\, GA706-529-6000Rate $189.00/night \n			\n			\n				\n				\n				\n				\n				\n				\n				\n				\n				\n				Country Inn and Suites903 West Bridge Road\, Dalton\, GA706-278-9700 \n  \n			\n			\n				\n				\n				\n				\n				\n				\n				\n				\n				\n				Holiday Inn Express & Suites934 Market Street\, Dalton\, GA706-217-6200
URL:https://cbfga.org/event/cbfga-intergenerational-missions-weekend-serving-beyond/
LOCATION:First Baptist Church\, Dalton\, Georgia\, 311 N Thornton Ave\, Dalton\, 30720\, United States
CATEGORIES:Adult Event,Children's Event,Family Event,Featured On Homepage,Missions,Senior Adult Event,Senior Adult Retreat,Youth Events
END:VEVENT
BEGIN:VEVENT
DTSTART;VALUE=DATE:20240816
DTEND;VALUE=DATE:20241105
DTSTAMP:20260425T041203
CREATED:20240816T224122Z
LAST-MODIFIED:20241015T205543Z
UID:8311-1723766400-1730764799@cbfga.org
SUMMARY:CBFGA State Gathering Highland Hills Baptist Church-Registration-November 10-11\, 2024
DESCRIPTION:Event Details\n			\n				\n				\n				\n				\n				\n			\n			\n				\n				\n				\n				\n				\n				\n				\n				\n				\n				Date\n			\n				\n				\n				\n				\n				November 10-11\, 2024 \n			\n				\n				\n				\n				\n				Time\n			\n				\n				\n				\n				\n				Sunday\, 4:00 pm – Monday\, 1:30 pm\n			\n				\n				\n				\n				\n				Location\n			\n				\n				\n				\n				\n				Highland Hills Baptist Church1370 Briarcliff RoadMacon\, GA 31211 \n			\n				\n				\n				\n				\n				Join us for two days of Worship\, meals\, converstions\, and networking opportunites designed to equip church leaders with the skills to lead effectively. This year’s Theme is “Being Like Jesus.” \n			\n			\n				\n				\n				\n				\n			\n				\n				\n				\n				\n				\n				\n				\n				\n				\n				\n				\n			\n				Register Here!\n			\n			\n				\n				\n				\n				\n			\n				\n				\n				\n				\n				\n				\n			\n				\n				\n				\n				\n			\n				\n				\n			\n				\n				\n				\n				\n				\n				\n				\n				\n				\n				\n				\n				\n				\n				\n				\n				\n				\n				Recommended Hotels\n			\n			\n				\n				\n				\n				\n			\n				\n				\n				\n				\n				\n				\n				\n				\n				\n				\n				$119 per night\n			\n				\n				\n				\n				\n				book by October 23\, 2024\n			\n				\n				\n				\n				\n				\n			\n				\n				\n				\n				\n				Courtyard by Marriott3990 Sheraton DrMacon\, GA 31210 \n			\n				Book Now\n			\n			\n				\n				\n				\n				\n				\n				\n				\n				\n				\n				$139 per night \n\n			\n				\n				\n				\n				\n				book by October 23\, 2024\n			\n				\n				\n				\n				\n				\n			\n				\n				\n				\n				\n				Hilton Garden Inn\n1220 Stadium Dr\nMacon\, GA 30104\n			\n				Book Now\n			\n			\n				\n				\n				\n				\n				\n				\n				\n				\n				\n				$139 per night \n\n			\n				\n				\n				\n				\n				book by October 20\, 2024\n			\n				\n				\n				\n				\n				\n			\n				\n				\n				\n				\n				TownePlace Suites\n1550 Mercer Univ. Dr.\nMacon\, GA 30104\n			\n				Book Now\n			\n			\n				\n				\n				\n				\n			\n				\n				\n			\n				\n				\n				\n				\n				\n				\n				\n				\n				\n				\n				\n				\n				\n				\n				\n				\n				\n				Event Schedule\n			\n			\n				\n				\n				\n				\n			\n				\n				\n				\n				\n				\n				\n				\n				\n				\n				\n				Sunday\n			\n				\n				\n				\n				\n				November 10\, 2024\n			\n			\n				\n				\n				\n				\n				\n				\n				\n				\n				\n				4:00 p.m. – Coordinating Council Meeting5:00 p.m. – Dinner6:30 p.m. – Worship (with John Pierce preaching and combined area CBF choir)8:00 p.m. – Screening of Rising Hope \n			\n			\n				\n				\n				\n				\n			\n				\n				\n				\n				\n				\n				\n				\n				\n				\n				\n				Monday\n			\n				\n				\n				\n				\n				November 11\, 2024\n			\n			\n				\n				\n				\n				\n				\n				\n				\n				\n				\n				8:00 – 9:15 a.m. – Breakfast and conversation with John Pierce9:30 – 9:45 a.m. – Business meeting around the tables10:00 a.m. – Conversation with John Pierce11:15 a.m. – Worship12:30 p.m. – Lunch and ministry network gatherings1:30 p.m. – Leave for home \n			\n			\n				\n				\n				\n				\n			\n				\n				\n			\n				\n				\n				\n				\n				\n				\n				\n				\n				\n				\n				\n				\n				\n				\n				\n				\n				\n				Meet Our Leaders\n			\n			\n				\n				\n				\n				\n			\n				\n				\n				\n				\n				\n				\n				\n				\n				\n				\n				\n			\n			\n				\n				\n				\n				\n				\n				\n				\n				\n				\n				John Pierce\n			\n				\n				\n				\n				\n				Recently retired from Good Faith Media as Executive Editor of Nurturing Faith journal for 24 years\, John is well-known in Georgia CBF circles. John previously served as a Baptist campus minister\, and he has served multiple CBFGA churches as interim pastor. \nHe is currently Director of the Jesus Worldview Initiative at Belmont University in Nashville\, Tennessee. John is a native of Ringgold\, Georgia\, and attended Berry College\, Southeastern Baptist Theological Seminary\, and Columbia Theological Seminary.\n			\n			\n				\n				\n				\n				\n			\n				\n				\n				\n				\n				\n				\n				\n				\n				\n				\n				\n			\n			\n				\n				\n				\n				\n				\n				\n				\n				\n				\n				Dr. Richard Kosowski\n			\n				\n				\n				\n				\n				Rich Kosowski is a child of the Midwest\, born in Chicago and growing up around Green Bay\, Wisconsin. He has earned a Bachelor of Music Education from Truman State University\, a Master of Music in Performance from University of Miami\, and a Doctor of Musical Arts in Performance and Vocal Pedagogy and Voice Science from the University of Houston. Rich has held different cantor\, chorister\, and conductor positions in churches and synagogues throughout his adult life. He has maintained a rich and fulfilling performance career\, which includes professional opera\, oratorio\, and choral work. Rich currently serves as the Director of Graduate Studies and chair of the Vocal Studies Area at Mercer University’s Townsend School of Music.\n			\n			\n				\n				\n				\n				\n			\n				\n				\n				\n				\n				\n				\n				\n				\n				\n				\n				\n			\n			\n				\n				\n				\n				\n				\n				\n				\n				\n				\n				Rachel Gunter Shapard\n			\n				\n				\n				\n				\n				Rachel Gunter Shapard is the Regional Vice President for Together for Hope\, Black Belt. She is also a co-founder of Pastors for Florida Children\, a public education advocacy group in the Sunshine State that was formed in 2019. Previously\, she served as the Associate Coordinator of the Cooperative Baptist Fellowship of Florida from June 2012 – March 2020; as an Eldercare Advocate at Baptist Health in Jacksonville\, FL from 2009-2012; as a Hospice Chaplain for VistaCare Hospice in Lubbock\, TX from 2006-2009; as Associate Pastor of Discipleship and Outreach at FBC Gainesville\, GA from 2000 – 2006; and as an Admissions Counselor at McAfee School of Theology from 1998 – 2000.\n			\n			\n				\n				\n				\n				\n			\n				\n				\n			\n				\n				\n				\n				\n				\n				\n				\n				\n				\n				\n				\n				\n				\n				\n				\n				\n				\n				Join Us for an Unforgettable Experience\n			\n				\n				\n				\n				\n				Often the terms “biblical worldview” and “Christian worldview” are used to define a narrow religious-political ideology that diminishes or dismisses the central figure of the Christian Bible and Christianity: Jesus. \nHowever\, the values and attributes — that Jesus compels his followers to emulate — are revealed clearly in the Gospels and prioritized in his summarizing call to love God with all our being and our broadly defined neighbors. \nThe Jesus Worldview Initiative provides a much-needed lens for seeing the ways the primary call to follow Jesus are actually present in or absent from Christian expressions today. \nIn response\, the initiative provides ways to refocus on following Jesus more intently as the highest priority for individual Christians\, churches and other organizations.\n			\n				Register Today
URL:https://cbfga.org/event/cbfga-state-gathering-highland-hills-baptist-church-registration/
LOCATION:Highland Hills Baptist Church\, 1370 Briarcliff Road\, Macon\, GA\, 31211\, United States
CATEGORIES:Adult Event,Ministers Events,Missions,Pastors Events,State Gathering
ATTACH;FMTTYPE=image/png:https://cbfga.org/wp-content/uploads/2024/07/Jesus-World-View-for-State-Meeting-e1724872827727.png
END:VEVENT
END:VCALENDAR