BEGIN:VCALENDAR
VERSION:2.0
PRODID:-//CBFGA - ECPv6.15.20//NONSGML v1.0//EN
CALSCALE:GREGORIAN
METHOD:PUBLISH
X-ORIGINAL-URL:https://cbfga.org
X-WR-CALDESC:Events for CBFGA
REFRESH-INTERVAL;VALUE=DURATION:PT1H
X-Robots-Tag:noindex
X-PUBLISHED-TTL:PT1H
BEGIN:VTIMEZONE
TZID:America/New_York
BEGIN:DAYLIGHT
TZOFFSETFROM:-0500
TZOFFSETTO:-0400
TZNAME:EDT
DTSTART:20190310T070000
END:DAYLIGHT
BEGIN:STANDARD
TZOFFSETFROM:-0400
TZOFFSETTO:-0500
TZNAME:EST
DTSTART:20191103T060000
END:STANDARD
BEGIN:DAYLIGHT
TZOFFSETFROM:-0500
TZOFFSETTO:-0400
TZNAME:EDT
DTSTART:20200308T070000
END:DAYLIGHT
BEGIN:STANDARD
TZOFFSETFROM:-0400
TZOFFSETTO:-0500
TZNAME:EST
DTSTART:20201101T060000
END:STANDARD
BEGIN:DAYLIGHT
TZOFFSETFROM:-0500
TZOFFSETTO:-0400
TZNAME:EDT
DTSTART:20210314T070000
END:DAYLIGHT
BEGIN:STANDARD
TZOFFSETFROM:-0400
TZOFFSETTO:-0500
TZNAME:EST
DTSTART:20211107T060000
END:STANDARD
END:VTIMEZONE
BEGIN:VEVENT
DTSTART;VALUE=DATE:20200625
DTEND;VALUE=DATE:20201001
DTSTAMP:20260418T095426
CREATED:20200625T141204Z
LAST-MODIFIED:20200625T141204Z
UID:4503-1593043200-1601510399@cbfga.org
SUMMARY:Watch the CBF/GA Virtual State Meeting
DESCRIPTION:CBF/GA Virtual State Meeting\nBringing greetings from familiar faces\, updates from Field Personnel with special connections to Georgia\, \nand upcoming mission and ministry plans for our state. \n  \n \nDuring this season of physical separation\, \nwe are grateful for your continued partnership in ministry and mission in Georgia and around the broader CBF world.
URL:https://cbfga.org/event/cbf-ga-virtual-state-meeting/
END:VEVENT
BEGIN:VEVENT
DTSTART;VALUE=DATE:20200731
DTEND;VALUE=DATE:20200905
DTSTAMP:20260418T095426
CREATED:20200115T181821Z
LAST-MODIFIED:20200115T181821Z
UID:4300-1596153600-1599263999@cbfga.org
SUMMARY:Registration for Recordings of the 2020 Virtual Marriage Retreat
DESCRIPTION:CBF/GA 2020 (Virtual) Marriage Retreat\nUsing the Enneagram to Enhance Your Marriage\n\n*We encourage you to purchase a copy of Discovering Your Personality Type: The Essential Introduction to the Enneagram\nby Don Richard Riso and Russ Hudson. \nRegister Here!\nMelody and Sam Harrell are leading this retreat\, during which they will guide participants to use the Enneagram tool to explore how to bring greater awareness to marriage and family relationships. \n \nThe Enneagram is a model of the human psyche which seeks to define nine personality types that are represented by the points on a geometric figure called an Enneagram. Understanding one’s personality type and how different personality types connect and interact is considered to be one way of deepening relationships and encouraging deeper spirituality and self-understanding. \nSam and Melody Harrell have extensive training and experience in leading groups in the study of the Enneagram\, and we are excited that they have agreed to lead us in this retreat. \nThey both were born to missionary parents in East Africa and have spent most of their lives working in that context. \nIn the last twenty years\, working under the auspices of CBF’s Global Missions\, they have engaged the Kenyan context through the ministries of Africa Exchange\, a non-profit organization they founded in 1998 which continues under joint local direction today. Melody currently works as a certified Spiritual Director\, and Sam serves as Associate Coordinator for Global Missions at CBF Global.
URL:https://cbfga.org/event/marriage-retreat/
CATEGORIES:Featured On Homepage
END:VEVENT
END:VCALENDAR