BEGIN:VCALENDAR
VERSION:2.0
PRODID:-//CBFGA - ECPv6.15.20//NONSGML v1.0//EN
CALSCALE:GREGORIAN
METHOD:PUBLISH
X-ORIGINAL-URL:https://cbfga.org
X-WR-CALDESC:Events for CBFGA
REFRESH-INTERVAL;VALUE=DURATION:PT1H
X-Robots-Tag:noindex
X-PUBLISHED-TTL:PT1H
BEGIN:VTIMEZONE
TZID:America/New_York
BEGIN:DAYLIGHT
TZOFFSETFROM:-0500
TZOFFSETTO:-0400
TZNAME:EDT
DTSTART:20170312T070000
END:DAYLIGHT
BEGIN:STANDARD
TZOFFSETFROM:-0400
TZOFFSETTO:-0500
TZNAME:EST
DTSTART:20171105T060000
END:STANDARD
BEGIN:DAYLIGHT
TZOFFSETFROM:-0500
TZOFFSETTO:-0400
TZNAME:EDT
DTSTART:20180311T070000
END:DAYLIGHT
BEGIN:STANDARD
TZOFFSETFROM:-0400
TZOFFSETTO:-0500
TZNAME:EST
DTSTART:20181104T060000
END:STANDARD
BEGIN:DAYLIGHT
TZOFFSETFROM:-0500
TZOFFSETTO:-0400
TZNAME:EDT
DTSTART:20190310T070000
END:DAYLIGHT
BEGIN:STANDARD
TZOFFSETFROM:-0400
TZOFFSETTO:-0500
TZNAME:EST
DTSTART:20191103T060000
END:STANDARD
END:VTIMEZONE
BEGIN:VEVENT
DTSTART;VALUE=DATE:20181002
DTEND;VALUE=DATE:20181231
DTSTAMP:20260424T202933
CREATED:20180904T173244Z
LAST-MODIFIED:20180904T173244Z
UID:3152-1538438400-1546214399@cbfga.org
SUMMARY:Register Now for CBF/GA 2019 Youth Events
DESCRIPTION:A Georgia Youth Choir Festival\nAmplify is an exciting event for middle and high school students interested in learning more about the ways they can serve God through worship arts. Centered on a group choral experience\, students will spend time working on group choir pieces as well as exploring their choice of a variety of additional tracks related to the worship arts. Throughout the weekend\, students will explore ways to use vocal music\, instrumental music\, written and spoken word\, visual arts\, dance and drama to deepen their worship experiences. Choir leaders will also be provided with a time of learning and sharing. \n  \n[one-third first] \n \n  \n[/one-third] \n[one-third] \nThe choir will be led by Stanley Roberts\, who serves as Associate Dean and Arthur Lowndes Rich Professor of Choral Conducting at the Townsend School of Music as well as Minister of Music at First Baptist Church of Christ in Macon\, Georgia. For more information about Stanley Roberts Click Here. \n[/one-third] \n[one-third] \n \n[/one-third] \n  \n\n[one-half first] \nDATES: February 15-17\, 2019\nLOCATION: Mercer University\, Macon\, GA\nCOST: $50 per participant\nLODGING: Group rates have been secured at area hotels.\nNOTE: Each group is responsible for their own lodging. \nAMPLIFY FORMS \nAmplify Schedule 2019\nAmplify Chaperone Form 2019\nAmplify Participant Form 2019 \n[/one-half] \n[one-half last] \nAMPLIFY MUSIC LIST \nGuide My Feet: Celebrating Grace Hymnal #637\nThe Lord Is My Shepherd: Allen Pote\nwww.choristersguild.org/store/cga551-the-lord-is-my-shepherd-satb/4881\nSanctus: Aaron David Miller\nwww.augsburgfortress.org/store/product/8503/Sanctus\nI Will Be a Child of Peace: arr. Elaine Hagenberg\nwww.beckenhorstpress.com/i-will-be-a-child-of-peace-satb\nWhat Does the Lord Require of You?: Mark A. Miller\nOut of print. Please contact MKH if you need copies of the piece.\n[/one-half] \n\n  \nA $25 per participant deposit is required to reserve your spot!\nRegister Here!\nRegistration Deadline: December 11\, 2018\n[blue-section] \nHOTEL INFO\n[one-half first] \nComfort Inn & Suites\n1 King Bed or 2 Queen Beds $59.99 plus taxes and fees\n2 Queen Beds with Sofa $67.99 plus taxes and fees\nBook online HERE using Group Code: CO2913\nDeadline to book is January 25\, 2019 \n[/one-half] \n[one-half] \nHome2 Suites\n1 King Bed with Sofa $119 plus taxes and fees\n2 Queen Beds with Sofa $129 plus taxes and fees\nCall 478-803-5300 and use the group code Amplify to reserve rooms\nDeadline to book is January 15\, 2019 \n[/one-half] \n[/blue-section] \n  \nCo-sponsored by CBF/GA and Mercer’s Townsend School of Music\n\n \n  \n[one-half first] \nMarch 15-17\, 2019\nJohns Creek Baptist Church\, Alpharetta\n[/one-half] \n[one-half last] \nMarch 29-31\, 2019\nCo-Hosted by Fellowship Baptist Church\, Americus and Maranatha Baptist Church\, Plains\n[/one-half] \n\n \n  \n[one-half first] \nCOST: $50 per participant\nLODGING: Group rates have been secured at area hotels for both weekends.\nEach group is responsible for their own lodging.\nPREACHER: Ruth Perkins Lee\, Director of Church Engagement\, CBF Global \n[/one-half] \n[one-half last] \n2019 Americus-Plains Schedule  \n2019 Johns Creek Schedule \nMMM Chaperone Form \nMMM Participant Form \n[/one-half] \n[spacer] \n\n\nRegister Now!\nREGISTRATION DEADLINE: January 11\, 2019\n  \n[blue-section] \n[one-half first] \nJohns Creek Hotels \nComfort Inn & Suites Peachtree Corners\n2 Queen Beds: $95 per night plus taxes and fees\n2 Queen Beds with Sofa $103 per night plus taxes and fees\nBook online HERE using Group Code: SR4015 before 2/22/2019. \nHoliday Inn Express & Suites at Johns Creek\n2 Double Bed and 1 King Rooms for $109 per night plus taxes and fees.\nCall 678-638-9800 to book using Group Name: March Mission Madness before 2/22/2019. \nComfort Inn Alpharetta\n2 Double Bed and 1 King Rooms for $105 per night plus taxes and fees.\nCall 770-664-7997 to book using Group Name: March Mission Madness before 2/1/2019. \n[/one-half] \n[one-half last] \nAmericus Lodging \nKoinonia Farms has multiple lodging options for different sized groups.\nVisit their website HERE for more information. Be sure to book soon! \nDays Inn\, Americus\n2 Double Bed and 1 King Rooms for $84 per night plus taxes and fees.\nCall 229-924-4001 to book by 1/1/19 using Group Name MMM.\nDeadline Jan 25\, 2019 \nHampton Inn\, Americus\nNo Group Block available so book soon! Call 229-924-3890 to book. \n[/one-half] \n[/blue-section]
URL:https://cbfga.org/event/amplify-march-mission-madness/
CATEGORIES:Featured On Homepage
END:VEVENT
END:VCALENDAR